BEGIN:VCALENDAR
VERSION:2.0
PRODID:-//StenoInTheCity - ECPv6.14.2//NONSGML v1.0//EN
CALSCALE:GREGORIAN
METHOD:PUBLISH
X-WR-CALNAME:StenoInTheCity
X-ORIGINAL-URL:https://stenointhecity.com
X-WR-CALDESC:Events for StenoInTheCity
REFRESH-INTERVAL;VALUE=DURATION:PT1H
X-Robots-Tag:noindex
X-PUBLISHED-TTL:PT1H
BEGIN:VTIMEZONE
TZID:Asia/Karachi
BEGIN:STANDARD
TZOFFSETFROM:+0500
TZOFFSETTO:+0500
TZNAME:PKT
DTSTART:20230101T000000
END:STANDARD
END:VTIMEZONE
BEGIN:VEVENT
DTSTART;TZID=Asia/Karachi:20230727T183000
DTEND;TZID=Asia/Karachi:20230727T220000
DTSTAMP:20260423T024103
CREATED:20230623T071151Z
LAST-MODIFIED:20230623T084034Z
UID:2143-1690482600-1690495200@stenointhecity.com
SUMMARY:The Professional Social Networking Event (With a Twist)
DESCRIPTION:Steno In The City Presents The Professional Social Networking Event (With a Twist) at the Ballroom at Bayou Place in Houston\, TX on 7-27-23 from 6:30 to 10:00pm.
URL:https://stenointhecity.com/event/the-professional-networking-event-with-a-twsit/
LOCATION:The Ballroom at Bayou Place\, 500 Texas Avenue\, Houston\, TX\, 77002\, United States
ATTACH;FMTTYPE=image/png:https://stenointhecity.com/wp-content/uploads/2023/06/steno-flyer.png
ORGANIZER;CN="Steno In The City":MAILTO:info@stenointhecity.com
END:VEVENT
END:VCALENDAR