BEGIN:VCALENDAR
VERSION:2.0
PRODID:-//StenoInTheCity - ECPv6.14.2//NONSGML v1.0//EN
CALSCALE:GREGORIAN
METHOD:PUBLISH
X-ORIGINAL-URL:https://stenointhecity.com
X-WR-CALDESC:Events for StenoInTheCity
REFRESH-INTERVAL;VALUE=DURATION:PT1H
X-Robots-Tag:noindex
X-PUBLISHED-TTL:PT1H
BEGIN:VTIMEZONE
TZID:America/Chicago
BEGIN:DAYLIGHT
TZOFFSETFROM:-0600
TZOFFSETTO:-0500
TZNAME:CDT
DTSTART:20250309T080000
END:DAYLIGHT
BEGIN:STANDARD
TZOFFSETFROM:-0500
TZOFFSETTO:-0600
TZNAME:CST
DTSTART:20251102T070000
END:STANDARD
BEGIN:DAYLIGHT
TZOFFSETFROM:-0600
TZOFFSETTO:-0500
TZNAME:CDT
DTSTART:20260308T080000
END:DAYLIGHT
BEGIN:STANDARD
TZOFFSETFROM:-0500
TZOFFSETTO:-0600
TZNAME:CST
DTSTART:20261101T070000
END:STANDARD
END:VTIMEZONE
BEGIN:VEVENT
DTSTART;TZID=America/Chicago:20250913T090000
DTEND;TZID=America/Chicago:20250913T170000
DTSTAMP:20260421T162922
CREATED:20250730T235737Z
LAST-MODIFIED:20250928T215915Z
UID:7108-1757754000-1757782800@stenointhecity.com
SUMMARY:Steno in the City Presents: The Steno Tech Workshop! (On Demand)
DESCRIPTION:Can we say\, technology\, technology\, and more technology? \n \n  \nGreetings\, Court Reporting and Captioning Community! \nJoin us on September 13\, 2025 for an exciting live webinar\, “The Steno Tech Workshop\,” running from 9:00 a.m. to 6:05 p.m. CDT. This online-only event features eight top-tier speakers and is packed with valuable insight into the latest technology for the court reporting and captioning profession \nWorkshop Highlights:\n\nApproved for .7 CEUs through NCRA\nCEUs will be submitted to NCRA on your behalf\nYou’ll receive a certificate of completion and gain actionable strategies to reclaim your time and boost your efficiency\nOn-Demand access if you are not able to attend live\nSITC Retreat: Cancun Edition- Giveaway (Retreat Slot)\nThinkPad X1 Carbon- Intel i7 Edition – Giveaway\n\nJoin us if you’re looking to:\n\n1. Stay Ahead of the Curve\nLearn the latest in AI tools\, software features\, and tech solutions that are transforming the court reporting and captioning profession. This workshop is your one-stop update for what’s new and what’s next. \n\n2. Earn .8 CEUs in One Day\nFulfill 7 CE hours or .7 CEUsin a single day — all from the comfort of your home. No travel\, no hotel\, just actionable education that counts toward your professional development. \n\n3. Learn From Industry Leaders\nHear directly from top experts like Mark Kislingbury\, Lindsay Stoker\, Brandi Ray\, Jessie Waack\, Tim Falk\, Brett Bova\, Michael Starkman\, and Anthony Freisolone. With breakout sessions and diverse topics\, there’s something for every skill level and software user. \n\n4. Practical\, Real-World Solutions\nThis isn’t fluff. You’ll walk away with step-by-step guides\, tech recommendations\, editing shortcuts\, and best practices you can implement immediately in your reporting workflow. \n\n5. Reconnect With Your Why\nBeyond the tech\, this event includes sessions focused on well-being\, mindset\, and purpose — helping you stay inspired\, balanced\, and empowered in your career journey. \n  \n\nRegistration Fee: $135.00\nSpecial Registration Giveaway!\n\nRegister between August 1st – August 31st for a chance to win an all-inclusive trip to Cancun for the SITC Retreat\, happening October 24th – 28th\, 2025.  Enjoy a luxury suite in a single or double room (flight and off-resort activities are not included)\n\nLive Webinar Giveaway:\n\nDuring the webinar\, we will be hosting a GIVEAWAY! One lucky participant will win a Lenovo ThinkPad X1 Carbon – Intel i7 Edition with the following specs:\n\n\n\n\nIntel Core i7 Processor 1.7GHz/4.7GHz\n512GB\, upgradeable to 1TB\n16GB RAM memory\n14″ 1920 x 1080 FHD touchscreen display\, 2.4 lbs.\n3-year Lenovo warranty\n\n\n\n\n\n\nBONUS: After the webinar\, you will connect with a CAT trainer who will configure your new Lenovo laptop with your previously purchased CAT software!!! \n\nEvent Details:\n\nThe Steno Tech Workshop 2025\nOnline via Zoom\nSaturday\, September 13\, 2025\n9:00 a.m. to 6:05 p.m. CDT\n\nDon’t miss out on this opportunity to advance your tech skills and enhance your professional practice.  Register now and secure your spot! \nOn-Demand Registration: https://stenointhecity.com/learning-lab \nEvent Agenda: https://stenointhecity.com/the-steno-tech-workshop-schedule
URL:https://stenointhecity.com/event/steno-in-the-city-presents-the-steno-tech-workshop-2/
ATTACH;FMTTYPE=image/jpeg:https://stenointhecity.com/wp-content/uploads/2025/09/newflyer-7ceus.jpg
END:VEVENT
BEGIN:VEVENT
DTSTART;VALUE=DATE:20260416
DTEND;VALUE=DATE:20260419
DTSTAMP:20260421T162922
CREATED:20251124T115335Z
LAST-MODIFIED:20251124T121413Z
UID:11316-1776297600-1776556799@stenointhecity.com
SUMMARY:Fearless Stenographers Conference 2026
DESCRIPTION:Fearless Stenographers Conference 2026\n			April 16\, 2026 CDT\n	  –\n	April 18\, 2026 CDT \nJW MARRIOTT | 1331 PENNSYLVANIA AVE NW\, WASHINGTON\, DC  \n					Countdown Expired!				 \nAre you ready to be Fearless in 2026?\nThe Fearless Stenographers Conference is heading to the nation’s capital Washington\, D.C.\, April 16–18\, 2026 for what promises to be our most extraordinary gathering yet for Steno in the City. Join us at the JW Marriott Hotel on Pennsylvania Avenue as we celebrate five fearless years of empowering court reporting and captioning professionals across the country. \nFive years in\, the Steno in the City (SITC) Annual Fearless Stenographers Conference remains honored to serve as a gathering place for networking\, collaboration\, and inspiration within our community. Each year\, we unite court reporters\, captioners\, firm owners\, educators\, students\, attorneys\, judges\, and policymakers for three days of education\, advocacy\, and fearless growth. \nThis year’s theme\, “The Evolution of Steno in the City\,” takes us on a powerful journey through the resilience\, progress\, and innovation that define our profession. Expect top-tier seminars\, inspiring speakers\, and meaningful connections designed to reignite passion\, elevate skill\, and celebrate excellence in every form. \nConference Highlight: The Fearless Evolution Black Tie Affair\n\nA Legacy in Motion — Honoring 5 Years of Steno in the City\nThe weekend culminates in an unforgettable evening at our signature Black Tie Affair\, an elegant celebration of excellence\, leadership\, and legacy. Join us as we pay tribute to the reporters and visionaries who have paved the way and toast to the next generation shaping the future of steno. Enjoy fine dining\, live entertainment\, special recognitions\, and an atmosphere of sophistication that only Steno in the City can deliver. \nOne Mission + One Movement = Steno United\n\nUnited under the banner of STENO United\, we come together with a shared purpose: to empower\, educate\, and elevate. The Fearless Stenographers Conference isn’t just an event; it’s a movement that celebrates the strength and unity of our profession. The place where everyone feels seen and heard. The place where everyone feels welcomed. \nDon’t miss the fifth annual Fearless Stenographers Conference where empowerment meets elegance in the heart of Washington\, D.C.Join us for an inspiring\, transformative weekend that will leave you fearless\, connected\, and unstoppable. \nEarn up to 1.4 CEUs (14 hours of accredited education) \n            \n                    Register for Fearless Stenographer’s Conference 2026\n	                         \nYou will be redirected to SITCConference.com
URL:https://stenointhecity.com/event/fearless-stenographers-conference-2026/
ATTACH;FMTTYPE=image/png:https://stenointhecity.com/wp-content/uploads/2025/11/Social-Media-Post-Size.png
ORGANIZER;CN="Steno In The City":MAILTO:info@stenointhecity.com
END:VEVENT
BEGIN:VEVENT
DTSTART;VALUE=DATE:20260417
DTEND;VALUE=DATE:20260419
DTSTAMP:20260421T162922
CREATED:20260324T215135Z
LAST-MODIFIED:20260324T215159Z
UID:12100-1776384000-1776556799@stenointhecity.com
SUMMARY:The Fearless Stenographers Conference - Live Stream (Via Zoom)
DESCRIPTION:Steno in the City is bringing the energy\, excellence\, and impact of the Fearless Stenographers Conference straight from Washington\, D.C.\, to you wherever you are through our virtual conference via Zoom! \nIf you are unable to join us in person\, you can still be part of this powerful experience through our virtual registration. Get ready for an inspiring lineup of all-star speakers who are here to ignite your passion for the profession all while earning CEUs and CE hours through NCRA and JBCC. \nThis year’s conference will bring together court reporters\, captioners\, students\, and industry leaders for meaningful conversations around the importance of protecting the record and the future of stenography. It is more than a conference; it is a movement. \nWhat to Expect Virtually: \n\nLive access to engaging seminar sessions\n\n\nOpportunities to learn from top professionals in the field\n\n\nInsightful discussions shaping the future of our industry\n\nPlease note: You must attend all live sessions if you would like Steno in the City to submit your CEUs to NCRA on your behalf. \nThere is an option to watch the replay of the conference\, but choosing this option\, you will be responsible for submitting your CEUs to NCRA and paying their fee. \nTo watch the conference replay\, you must register within the regular registration dates. \nEarn 1.3 CEUs for NCRA and 13 CE hours for Texas JBCC (Online is pending approval) for only $285. \nREGISTER TODAY and engage in energizing and inspiring sessions led by our industry’s most prominent professionals who will motivate you to reach new heights in your career. \nPlease visit the conference website for the full agenda and speaker lineup. All information can be founded at www.sitcconference.com \nDon’t miss this opportunity to sharpen your skills\, expand your knowledge\, and become the best reporter you aspire to be! \nNo matter where you are\, you can still be part of the energy\, the connection\, and the impact. \nWashington\, D.C.\, is calling\, and we are bringing the experience to you. \nPlease consider sponsoring a student to join you in the the conference online via Zoom! \nDisclaimer: Please note only 1.3 CEUs/ 13 CE hours will be offered due to one seminar (Speed Dating Session) being unavailable for online participants. This session is excluded from online availability. \nHope to see you there!!
URL:https://stenointhecity.com/event/the-fearless-stenographers-conference-live-stream-via-zoom/
ATTACH;FMTTYPE=image/png:https://stenointhecity.com/wp-content/uploads/2026/03/3933283245308340509.png
END:VEVENT
END:VCALENDAR