BEGIN:VCALENDAR
VERSION:2.0
PRODID:-//StenoInTheCity - ECPv6.14.2//NONSGML v1.0//EN
CALSCALE:GREGORIAN
METHOD:PUBLISH
X-WR-CALNAME:StenoInTheCity
X-ORIGINAL-URL:https://stenointhecity.com
X-WR-CALDESC:Events for StenoInTheCity
REFRESH-INTERVAL;VALUE=DURATION:PT1H
X-Robots-Tag:noindex
X-PUBLISHED-TTL:PT1H
BEGIN:VTIMEZONE
TZID:Asia/Karachi
BEGIN:STANDARD
TZOFFSETFROM:+0500
TZOFFSETTO:+0500
TZNAME:PKT
DTSTART:20230101T000000
END:STANDARD
END:VTIMEZONE
BEGIN:VEVENT
DTSTART;TZID=Asia/Karachi:20231006T123000
DTEND;TZID=Asia/Karachi:20231006T163000
DTSTAMP:20260423T012137
CREATED:20230905T124121Z
LAST-MODIFIED:20231001T131802Z
UID:2330-1696595400-1696609800@stenointhecity.com
SUMMARY:Tech & Prep Workshop
DESCRIPTION:Tech and Prep Workshop – Webinar\n\nThis is a first-ever new workshop that Allie will give\, and you will not be disappointed! \nHere are a few reasons why YOU should attend this workshop: \nIf you are not available on October 6th between the hours of 12:30 p.m. to 4:30 pm. EST\, for the live webinar\, you can view within 30 days and still earn your CEUs and/or CE hours! \nYou will earn .4 CEUs through NCRA and 4 hours of CE hours approved through JBCC. \nWebinar Description \nLearning Objectives: \n\nHow to utilize technology to make your job easier.\nHow to prep your dictionary for realtime and remember the outlines.\nHow to increase efficiency in your work product.\n\n\nEvent Registration Link: https://stenointhecity.com/register \nLive Webinar: Price ($99)\nIn-person Workshop: Price ($150)\nRetreat Packages: sitcretreat@gmail.com
URL:https://stenointhecity.com/event/tech-prep-workshop/
LOCATION:The Buckhead Club\, 3344 Peachtree Rd NE #2600\, Atlanta\, GA\, United States
ATTACH;FMTTYPE=image/jpeg:https://stenointhecity.com/wp-content/uploads/2023/09/image0-1.jpeg
END:VEVENT
END:VCALENDAR